BEGIN:VCALENDAR
VERSION:2.0
PRODID:-//Katholische Kirche Heilbronn - ECPv6.15.11//NONSGML v1.0//EN
CALSCALE:GREGORIAN
METHOD:PUBLISH
X-WR-CALNAME:Katholische Kirche Heilbronn
X-ORIGINAL-URL:https://katholisch-hn.de
X-WR-CALDESC:Veranstaltungen für Katholische Kirche Heilbronn
REFRESH-INTERVAL;VALUE=DURATION:PT1H
X-Robots-Tag:noindex
X-PUBLISHED-TTL:PT1H
BEGIN:VTIMEZONE
TZID:Europe/Berlin
BEGIN:DAYLIGHT
TZOFFSETFROM:+0100
TZOFFSETTO:+0200
TZNAME:CEST
DTSTART:20250330T010000
END:DAYLIGHT
BEGIN:STANDARD
TZOFFSETFROM:+0200
TZOFFSETTO:+0100
TZNAME:CET
DTSTART:20251026T010000
END:STANDARD
BEGIN:DAYLIGHT
TZOFFSETFROM:+0100
TZOFFSETTO:+0200
TZNAME:CEST
DTSTART:20260329T010000
END:DAYLIGHT
BEGIN:STANDARD
TZOFFSETFROM:+0200
TZOFFSETTO:+0100
TZNAME:CET
DTSTART:20261025T010000
END:STANDARD
BEGIN:DAYLIGHT
TZOFFSETFROM:+0100
TZOFFSETTO:+0200
TZNAME:CEST
DTSTART:20270328T010000
END:DAYLIGHT
BEGIN:STANDARD
TZOFFSETFROM:+0200
TZOFFSETTO:+0100
TZNAME:CET
DTSTART:20271031T010000
END:STANDARD
END:VTIMEZONE
BEGIN:VEVENT
DTSTART;TZID=Europe/Berlin:20260428T170000
DTEND;TZID=Europe/Berlin:20260428T173000
DTSTAMP:20260419T161007
CREATED:20260408T084322Z
LAST-MODIFIED:20260408T084322Z
UID:10011580-1777395600-1777397400@katholisch-hn.de
SUMMARY:Rosenkranz Maria Immaculata
DESCRIPTION:
URL:https://katholisch-hn.de/veranstaltung/rosenkranz-maria-immaculata-8/
LOCATION:Maria Immaculata\, Moosbruggerstraße 6\, 74074 Heilbronn
CATEGORIES:Andacht - Vesper - Segensfeier
END:VEVENT
BEGIN:VEVENT
DTSTART;TZID=Europe/Berlin:20260429T112000
DTEND;TZID=Europe/Berlin:20260429T115000
DTSTAMP:20260419T161007
CREATED:20260408T084322Z
LAST-MODIFIED:20260408T084322Z
UID:10011581-1777461600-1777463400@katholisch-hn.de
SUMMARY:Rosenkranz Peter Paul
DESCRIPTION:
URL:https://katholisch-hn.de/veranstaltung/rosenkranz-peter-paul-4/
CATEGORIES:Andacht - Vesper - Segensfeier
END:VEVENT
BEGIN:VEVENT
DTSTART;TZID=Europe/Berlin:20260429T113000
DTEND;TZID=Europe/Berlin:20260429T120000
DTSTAMP:20260419T161007
CREATED:20260408T084323Z
LAST-MODIFIED:20260408T084323Z
UID:10011582-1777462200-1777464000@katholisch-hn.de
SUMMARY:Beichtgelegenheit \nbei Pfarrer Rossnagel\nPeter Paul
DESCRIPTION:
URL:https://katholisch-hn.de/veranstaltung/beichtgelegenheit-bei-pfarrer-rossnagelpeter-paul-3/
CATEGORIES:Beichte
END:VEVENT
BEGIN:VEVENT
DTSTART;TZID=Europe/Berlin:20260429T121000
DTEND;TZID=Europe/Berlin:20260429T130000
DTSTAMP:20260419T161007
CREATED:20260408T084323Z
LAST-MODIFIED:20260408T084323Z
UID:10011583-1777464600-1777467600@katholisch-hn.de
SUMMARY:Eucharistiefeier Peter Paul
DESCRIPTION:
URL:https://katholisch-hn.de/veranstaltung/eucharistiefeier-peter-paul-20/
CATEGORIES:Gottesdienst - Wort Gottes Feier
END:VEVENT
BEGIN:VEVENT
DTSTART;TZID=Europe/Berlin:20260430T180000
DTEND;TZID=Europe/Berlin:20260430T183000
DTSTAMP:20260419T161007
CREATED:20260408T084414Z
LAST-MODIFIED:20260408T084414Z
UID:10011584-1777572000-1777573800@katholisch-hn.de
SUMMARY:Rosenkranz Maria Immaculata
DESCRIPTION:
URL:https://katholisch-hn.de/veranstaltung/rosenkranz-maria-immaculata-9/
LOCATION:Maria Immaculata\, Moosbruggerstraße 6\, 74074 Heilbronn
CATEGORIES:Andacht - Vesper - Segensfeier
END:VEVENT
BEGIN:VEVENT
DTSTART;TZID=Europe/Berlin:20260430T183000
DTEND;TZID=Europe/Berlin:20260430T193000
DTSTAMP:20260419T161007
CREATED:20260408T084416Z
LAST-MODIFIED:20260408T084416Z
UID:10011585-1777573800-1777577400@katholisch-hn.de
SUMMARY:Eucharistiefeier Maria Immaculata
DESCRIPTION:
URL:https://katholisch-hn.de/veranstaltung/eucharistiefeier-maria-immaculata-6/
LOCATION:Maria Immaculata\, Moosbruggerstraße 6\, 74074 Heilbronn
CATEGORIES:Gottesdienst - Wort Gottes Feier
END:VEVENT
BEGIN:VEVENT
DTSTART;TZID=Europe/Berlin:20260501T174500
DTEND;TZID=Europe/Berlin:20260501T183000
DTSTAMP:20260419T161007
CREATED:20260408T084416Z
LAST-MODIFIED:20260408T084416Z
UID:10011586-1777657500-1777660200@katholisch-hn.de
SUMMARY:Beichtgelegenheit \nbei Pfarrer Rossnagel\nPeter Paul
DESCRIPTION:
URL:https://katholisch-hn.de/veranstaltung/beichtgelegenheit-bei-pfarrer-rossnagelpeter-paul-4/
CATEGORIES:Beichte
END:VEVENT
BEGIN:VEVENT
DTSTART;TZID=Europe/Berlin:20260501T183000
DTEND;TZID=Europe/Berlin:20260501T191500
DTSTAMP:20260419T161007
CREATED:20260408T084417Z
LAST-MODIFIED:20260408T084417Z
UID:10011587-1777660200-1777662900@katholisch-hn.de
SUMMARY:Eucharistiefeier Peter Paul
DESCRIPTION:
URL:https://katholisch-hn.de/veranstaltung/eucharistiefeier-peter-paul-21/
CATEGORIES:Gottesdienst - Wort Gottes Feier
END:VEVENT
BEGIN:VEVENT
DTSTART;TZID=Europe/Berlin:20260502T172000
DTEND;TZID=Europe/Berlin:20260502T180000
DTSTAMP:20260419T161007
CREATED:20260408T084417Z
LAST-MODIFIED:20260408T084417Z
UID:10011588-1777742400-1777744800@katholisch-hn.de
SUMMARY:Rosenkranz Maria Immaculata
DESCRIPTION:
URL:https://katholisch-hn.de/veranstaltung/rosenkranz-maria-immaculata-10/
LOCATION:Maria Immaculata\, Moosbruggerstraße 6\, 74074 Heilbronn
CATEGORIES:Andacht - Vesper - Segensfeier
END:VEVENT
BEGIN:VEVENT
DTSTART;TZID=Europe/Berlin:20260502T180000
DTEND;TZID=Europe/Berlin:20260502T190000
DTSTAMP:20260419T161007
CREATED:20260408T084430Z
LAST-MODIFIED:20260408T084430Z
UID:10011589-1777744800-1777748400@katholisch-hn.de
SUMMARY:Eucharistiefeier Maria Immaculata
DESCRIPTION:
URL:https://katholisch-hn.de/veranstaltung/eucharistiefeier-maria-immaculata-7/
LOCATION:Maria Immaculata\, Moosbruggerstraße 6\, 74074 Heilbronn
CATEGORIES:Gottesdienst - Wort Gottes Feier
END:VEVENT
BEGIN:VEVENT
DTSTART;TZID=Europe/Berlin:20260503T083000
DTEND;TZID=Europe/Berlin:20260503T093000
DTSTAMP:20260419T161007
CREATED:20260408T084431Z
LAST-MODIFIED:20260408T084431Z
UID:10011590-1777797000-1777800600@katholisch-hn.de
SUMMARY:Eucharistiefeier Peter Paul
DESCRIPTION:
URL:https://katholisch-hn.de/veranstaltung/eucharistiefeier-peter-paul-22/
CATEGORIES:Gottesdienst - Wort Gottes Feier
END:VEVENT
BEGIN:VEVENT
DTSTART;TZID=Europe/Berlin:20260503T111500
DTEND;TZID=Europe/Berlin:20260503T121500
DTSTAMP:20260419T161007
CREATED:20260408T084432Z
LAST-MODIFIED:20260408T084432Z
UID:10011592-1777806900-1777810500@katholisch-hn.de
SUMMARY:Kinderkirche Peter Paul
DESCRIPTION:
URL:https://katholisch-hn.de/veranstaltung/kinderkirche-peter-paul-2/
CATEGORIES:Gottesdienst - Wort Gottes Feier
END:VEVENT
BEGIN:VEVENT
DTSTART;TZID=Europe/Berlin:20260503T111500
DTEND;TZID=Europe/Berlin:20260503T121500
DTSTAMP:20260419T161007
CREATED:20260408T084432Z
LAST-MODIFIED:20260408T084432Z
UID:10011591-1777806900-1777810500@katholisch-hn.de
SUMMARY:Eucharistiefeier Peter Paul
DESCRIPTION:
URL:https://katholisch-hn.de/veranstaltung/eucharistiefeier-peter-paul-23/
CATEGORIES:Gottesdienst - Wort Gottes Feier
END:VEVENT
BEGIN:VEVENT
DTSTART;TZID=Europe/Berlin:20260503T123000
DTEND;TZID=Europe/Berlin:20260503T133000
DTSTAMP:20260419T161007
CREATED:20260408T084432Z
LAST-MODIFIED:20260408T084432Z
UID:10011593-1777811400-1777815000@katholisch-hn.de
SUMMARY:Tauffeier St.Peter und Paul
DESCRIPTION:
URL:https://katholisch-hn.de/veranstaltung/tauffeier-st-peter-und-paul-2/
CATEGORIES:Gottesdienst - Wort Gottes Feier
END:VEVENT
BEGIN:VEVENT
DTSTART;TZID=Europe/Berlin:20260503T160000
DTEND;TZID=Europe/Berlin:20260503T170000
DTSTAMP:20260419T161007
CREATED:20260408T084445Z
LAST-MODIFIED:20260408T084445Z
UID:10011594-1777824000-1777827600@katholisch-hn.de
SUMMARY:Eucharistiefeier\nin spanischer Sprache Peter Paul
DESCRIPTION:
URL:https://katholisch-hn.de/veranstaltung/eucharistiefeierin-spanischer-sprache-peter-paul-5/
CATEGORIES:Gottesdienst - Wort Gottes Feier
END:VEVENT
BEGIN:VEVENT
DTSTART;TZID=Europe/Berlin:20260503T190000
DTEND;TZID=Europe/Berlin:20260503T200000
DTSTAMP:20260419T161007
CREATED:20260408T084446Z
LAST-MODIFIED:20260408T084446Z
UID:10011595-1777834800-1777838400@katholisch-hn.de
SUMMARY:Eucharistiefeier Peter Paul
DESCRIPTION:
URL:https://katholisch-hn.de/veranstaltung/eucharistiefeier-peter-paul-24/
CATEGORIES:Gottesdienst - Wort Gottes Feier
END:VEVENT
BEGIN:VEVENT
DTSTART;TZID=Europe/Berlin:20260504T121000
DTEND;TZID=Europe/Berlin:20260504T130000
DTSTAMP:20260419T161007
CREATED:20260408T084446Z
LAST-MODIFIED:20260408T084446Z
UID:10011596-1777896600-1777899600@katholisch-hn.de
SUMMARY:Eucharistiefeier Peter Paul
DESCRIPTION:
URL:https://katholisch-hn.de/veranstaltung/eucharistiefeier-peter-paul-25/
CATEGORIES:Gottesdienst - Wort Gottes Feier
END:VEVENT
BEGIN:VEVENT
DTSTART;TZID=Europe/Berlin:20260505T170000
DTEND;TZID=Europe/Berlin:20260505T173000
DTSTAMP:20260419T161007
CREATED:20260408T084446Z
LAST-MODIFIED:20260408T084446Z
UID:10011597-1778000400-1778002200@katholisch-hn.de
SUMMARY:Rosenkranz Maria Immaculata
DESCRIPTION:
URL:https://katholisch-hn.de/veranstaltung/rosenkranz-maria-immaculata-11/
LOCATION:Maria Immaculata\, Moosbruggerstraße 6\, 74074 Heilbronn
CATEGORIES:Andacht - Vesper - Segensfeier
END:VEVENT
BEGIN:VEVENT
DTSTART;TZID=Europe/Berlin:20260506T112000
DTEND;TZID=Europe/Berlin:20260506T115000
DTSTAMP:20260419T161007
CREATED:20260408T084447Z
LAST-MODIFIED:20260408T084447Z
UID:10011598-1778066400-1778068200@katholisch-hn.de
SUMMARY:Rosenkranz Peter Paul
DESCRIPTION:
URL:https://katholisch-hn.de/veranstaltung/rosenkranz-peter-paul-6/
CATEGORIES:Andacht - Vesper - Segensfeier
END:VEVENT
BEGIN:VEVENT
DTSTART;TZID=Europe/Berlin:20260506T113000
DTEND;TZID=Europe/Berlin:20260506T120000
DTSTAMP:20260419T161007
CREATED:20260408T084500Z
LAST-MODIFIED:20260408T084500Z
UID:10011599-1778067000-1778068800@katholisch-hn.de
SUMMARY:Beichtgelegenheit \nbei Pfarrer Rossnagel\nPeter Paul
DESCRIPTION:
URL:https://katholisch-hn.de/veranstaltung/beichtgelegenheit-bei-pfarrer-rossnagelpeter-paul-5/
CATEGORIES:Beichte
END:VEVENT
BEGIN:VEVENT
DTSTART;TZID=Europe/Berlin:20260506T121000
DTEND;TZID=Europe/Berlin:20260506T130000
DTSTAMP:20260419T161007
CREATED:20260408T084500Z
LAST-MODIFIED:20260408T084500Z
UID:10011600-1778069400-1778072400@katholisch-hn.de
SUMMARY:Eucharistiefeier Peter Paul
DESCRIPTION:
URL:https://katholisch-hn.de/veranstaltung/eucharistiefeier-peter-paul-26/
CATEGORIES:Gottesdienst - Wort Gottes Feier
END:VEVENT
BEGIN:VEVENT
DTSTART;TZID=Europe/Berlin:20260507T180000
DTEND;TZID=Europe/Berlin:20260507T183000
DTSTAMP:20260419T161007
CREATED:20260408T084501Z
LAST-MODIFIED:20260408T084501Z
UID:10011601-1778176800-1778178600@katholisch-hn.de
SUMMARY:Rosenkranz Maria Immaculata
DESCRIPTION:
URL:https://katholisch-hn.de/veranstaltung/rosenkranz-maria-immaculata-12/
LOCATION:Maria Immaculata\, Moosbruggerstraße 6\, 74074 Heilbronn
CATEGORIES:Andacht - Vesper - Segensfeier
END:VEVENT
BEGIN:VEVENT
DTSTART;TZID=Europe/Berlin:20260507T183000
DTEND;TZID=Europe/Berlin:20260507T193000
DTSTAMP:20260419T161007
CREATED:20260408T084501Z
LAST-MODIFIED:20260408T084501Z
UID:10011602-1778178600-1778182200@katholisch-hn.de
SUMMARY:Eucharistiefeier Maria Immaculata
DESCRIPTION:
URL:https://katholisch-hn.de/veranstaltung/eucharistiefeier-maria-immaculata-8/
LOCATION:Maria Immaculata\, Moosbruggerstraße 6\, 74074 Heilbronn
CATEGORIES:Gottesdienst - Wort Gottes Feier
END:VEVENT
BEGIN:VEVENT
DTSTART;TZID=Europe/Berlin:20260508T174500
DTEND;TZID=Europe/Berlin:20260508T183000
DTSTAMP:20260419T161007
CREATED:20260408T084501Z
LAST-MODIFIED:20260408T084501Z
UID:10011603-1778262300-1778265000@katholisch-hn.de
SUMMARY:Beichtgelegenheit \nbei Pfarrer Rossnagel\nPeter Paul
DESCRIPTION:
URL:https://katholisch-hn.de/veranstaltung/beichtgelegenheit-bei-pfarrer-rossnagelpeter-paul-6/
CATEGORIES:Beichte
END:VEVENT
BEGIN:VEVENT
DTSTART;TZID=Europe/Berlin:20260508T183000
DTEND;TZID=Europe/Berlin:20260508T191500
DTSTAMP:20260419T161007
CREATED:20260408T084514Z
LAST-MODIFIED:20260408T084514Z
UID:10011604-1778265000-1778267700@katholisch-hn.de
SUMMARY:Eucharistiefeier Peter Paul
DESCRIPTION:
URL:https://katholisch-hn.de/veranstaltung/eucharistiefeier-peter-paul-27/
CATEGORIES:Gottesdienst - Wort Gottes Feier
END:VEVENT
BEGIN:VEVENT
DTSTART;TZID=Europe/Berlin:20260509T172000
DTEND;TZID=Europe/Berlin:20260509T180000
DTSTAMP:20260419T161007
CREATED:20260408T084515Z
LAST-MODIFIED:20260408T084515Z
UID:10011605-1778347200-1778349600@katholisch-hn.de
SUMMARY:Rosenkranz Maria Immaculata
DESCRIPTION:
URL:https://katholisch-hn.de/veranstaltung/rosenkranz-maria-immaculata-13/
LOCATION:Maria Immaculata\, Moosbruggerstraße 6\, 74074 Heilbronn
CATEGORIES:Andacht - Vesper - Segensfeier
END:VEVENT
BEGIN:VEVENT
DTSTART;TZID=Europe/Berlin:20260509T180000
DTEND;TZID=Europe/Berlin:20260509T190000
DTSTAMP:20260419T161007
CREATED:20260408T084516Z
LAST-MODIFIED:20260408T084516Z
UID:10011606-1778349600-1778353200@katholisch-hn.de
SUMMARY:Eucharistiefeier Maria Immaculata
DESCRIPTION:
URL:https://katholisch-hn.de/veranstaltung/eucharistiefeier-maria-immaculata-9/
LOCATION:Maria Immaculata\, Moosbruggerstraße 6\, 74074 Heilbronn
CATEGORIES:Gottesdienst - Wort Gottes Feier
END:VEVENT
BEGIN:VEVENT
DTSTART;TZID=Europe/Berlin:20260510T083000
DTEND;TZID=Europe/Berlin:20260510T093000
DTSTAMP:20260419T161007
CREATED:20260408T084516Z
LAST-MODIFIED:20260408T084516Z
UID:10011607-1778401800-1778405400@katholisch-hn.de
SUMMARY:Eucharistiefeier Peter Paul
DESCRIPTION:
URL:https://katholisch-hn.de/veranstaltung/eucharistiefeier-peter-paul-28/
CATEGORIES:Gottesdienst - Wort Gottes Feier
END:VEVENT
BEGIN:VEVENT
DTSTART;TZID=Europe/Berlin:20260510T111500
DTEND;TZID=Europe/Berlin:20260510T121500
DTSTAMP:20260419T161007
CREATED:20260408T084516Z
LAST-MODIFIED:20260408T084516Z
UID:10011608-1778411700-1778415300@katholisch-hn.de
SUMMARY:Eucharistiefeier Peter Paul
DESCRIPTION:
URL:https://katholisch-hn.de/veranstaltung/eucharistiefeier-peter-paul-29/
CATEGORIES:Gottesdienst - Wort Gottes Feier
END:VEVENT
BEGIN:VEVENT
DTSTART;TZID=Europe/Berlin:20260510T113000
DTEND;TZID=Europe/Berlin:20260510T123000
DTSTAMP:20260419T161007
CREATED:20260408T084530Z
LAST-MODIFIED:20260408T084530Z
UID:10011609-1778412600-1778416200@katholisch-hn.de
SUMMARY:Eucharistiefeier\nin portugiesischer Sprache Maria Immaculata
DESCRIPTION:
URL:https://katholisch-hn.de/veranstaltung/eucharistiefeierin-portugiesischer-sprache-maria-immaculata-4/
LOCATION:Maria Immaculata\, Moosbruggerstraße 6\, 74074 Heilbronn
CATEGORIES:Gottesdienst - Wort Gottes Feier
END:VEVENT
END:VCALENDAR