BEGIN:VCALENDAR
VERSION:2.0
PRODID:-//Katholische Kirche Heilbronn - ECPv6.15.11//NONSGML v1.0//EN
CALSCALE:GREGORIAN
METHOD:PUBLISH
X-ORIGINAL-URL:https://katholisch-hn.de
X-WR-CALDESC:Veranstaltungen für Katholische Kirche Heilbronn
REFRESH-INTERVAL;VALUE=DURATION:PT1H
X-Robots-Tag:noindex
X-PUBLISHED-TTL:PT1H
BEGIN:VTIMEZONE
TZID:Europe/Berlin
BEGIN:DAYLIGHT
TZOFFSETFROM:+0100
TZOFFSETTO:+0200
TZNAME:CEST
DTSTART:20250330T010000
END:DAYLIGHT
BEGIN:STANDARD
TZOFFSETFROM:+0200
TZOFFSETTO:+0100
TZNAME:CET
DTSTART:20251026T010000
END:STANDARD
BEGIN:DAYLIGHT
TZOFFSETFROM:+0100
TZOFFSETTO:+0200
TZNAME:CEST
DTSTART:20260329T010000
END:DAYLIGHT
BEGIN:STANDARD
TZOFFSETFROM:+0200
TZOFFSETTO:+0100
TZNAME:CET
DTSTART:20261025T010000
END:STANDARD
BEGIN:DAYLIGHT
TZOFFSETFROM:+0100
TZOFFSETTO:+0200
TZNAME:CEST
DTSTART:20270328T010000
END:DAYLIGHT
BEGIN:STANDARD
TZOFFSETFROM:+0200
TZOFFSETTO:+0100
TZNAME:CET
DTSTART:20271031T010000
END:STANDARD
END:VTIMEZONE
BEGIN:VEVENT
DTSTART;TZID=Europe/Berlin:20260510T103000
DTEND;TZID=Europe/Berlin:20260510T113000
DTSTAMP:20260419T222426
CREATED:20260408T073751Z
LAST-MODIFIED:20260408T073751Z
UID:10011478-1778409000-1778412600@katholisch-hn.de
SUMMARY:Eucharistiefeier\nHl. Kreuz
DESCRIPTION:
URL:https://katholisch-hn.de/veranstaltung/eucharistiefeierhl-kreuz-9/
LOCATION:Kirche Hl. Kreuz\, Eulenweg 50\, 74080 Heilbronn
CATEGORIES:Gottesdienst - Wort Gottes Feier
END:VEVENT
BEGIN:VEVENT
DTSTART;TZID=Europe/Berlin:20260510T103000
DTEND;TZID=Europe/Berlin:20260510T113000
DTSTAMP:20260419T222426
CREATED:20260408T073938Z
LAST-MODIFIED:20260408T073938Z
UID:10011500-1778409000-1778412600@katholisch-hn.de
SUMMARY:Wortgottesfeier mit Kommunionausteilung\nSt. Kilian
DESCRIPTION:
URL:https://katholisch-hn.de/veranstaltung/wortgottesfeier-mit-kommunionausteilungst-kilian-2/
LOCATION:Kirche St. Kilian\, Ludwigsburger Str. 68\, 74080 Heilbronn
CATEGORIES:Gottesdienst - Wort Gottes Feier
END:VEVENT
BEGIN:VEVENT
DTSTART;TZID=Europe/Berlin:20260510T103000
DTEND;TZID=Europe/Berlin:20260510T113000
DTSTAMP:20260419T222426
CREATED:20260408T075537Z
LAST-MODIFIED:20260408T075537Z
UID:10011531-1778409000-1778412600@katholisch-hn.de
SUMMARY:Wort-Gottes-Feier
DESCRIPTION:
URL:https://katholisch-hn.de/veranstaltung/wort-gottes-feier-4/
LOCATION:St. Cornelius und Cyprian\, Weirachstr. 10\, 74078 Heilbronn
CATEGORIES:Gottesdienst - Wort Gottes Feier
END:VEVENT
BEGIN:VEVENT
DTSTART;TZID=Europe/Berlin:20260510T103000
DTEND;TZID=Europe/Berlin:20260510T113000
DTSTAMP:20260419T222426
CREATED:20260408T091024Z
LAST-MODIFIED:20260408T091024Z
UID:10011655-1778409000-1778412600@katholisch-hn.de
SUMMARY:Familiengottesdienst als Wort-Gottes-Feier St. Augustinus
DESCRIPTION:
URL:https://katholisch-hn.de/veranstaltung/familiengottesdienst-als-wort-gottes-feier-st-augustinus/
LOCATION:St. Augustinus\, Goethestr. 75\, 74076 Heilbronn
CATEGORIES:Gottesdienst - Wort Gottes Feier
END:VEVENT
BEGIN:VEVENT
DTSTART;TZID=Europe/Berlin:20260510T103000
DTEND;TZID=Europe/Berlin:20260510T113500
DTSTAMP:20260419T222426
CREATED:20260408T081631Z
LAST-MODIFIED:20260408T081631Z
UID:10011552-1778409000-1778412900@katholisch-hn.de
SUMMARY:Eucharistiefeier St. Martinus
DESCRIPTION:
URL:https://katholisch-hn.de/veranstaltung/eucharistiefeier-st-martinus-2/
LOCATION:St.-Martinus-Kirche\, Auf dem Bau\, 74081 Heilbronn-Sontheim
CATEGORIES:Gottesdienst - Wort Gottes Feier
END:VEVENT
BEGIN:VEVENT
DTSTART;TZID=Europe/Berlin:20260510T111500
DTEND;TZID=Europe/Berlin:20260510T121500
DTSTAMP:20260419T222426
CREATED:20260408T084516Z
LAST-MODIFIED:20260408T084516Z
UID:10011608-1778411700-1778415300@katholisch-hn.de
SUMMARY:Eucharistiefeier Peter Paul
DESCRIPTION:
URL:https://katholisch-hn.de/veranstaltung/eucharistiefeier-peter-paul-29/
CATEGORIES:Gottesdienst - Wort Gottes Feier
END:VEVENT
BEGIN:VEVENT
DTSTART;TZID=Europe/Berlin:20260510T113000
DTEND;TZID=Europe/Berlin:20260510T123000
DTSTAMP:20260419T222426
CREATED:20260408T084530Z
LAST-MODIFIED:20260408T084530Z
UID:10011609-1778412600-1778416200@katholisch-hn.de
SUMMARY:Eucharistiefeier\nin portugiesischer Sprache Maria Immaculata
DESCRIPTION:
URL:https://katholisch-hn.de/veranstaltung/eucharistiefeierin-portugiesischer-sprache-maria-immaculata-4/
LOCATION:Maria Immaculata\, Moosbruggerstraße 6\, 74074 Heilbronn
CATEGORIES:Gottesdienst - Wort Gottes Feier
END:VEVENT
BEGIN:VEVENT
DTSTART;TZID=Europe/Berlin:20260510T114500
DTEND;TZID=Europe/Berlin:20260510T123000
DTSTAMP:20260419T222426
CREATED:20260408T081631Z
LAST-MODIFIED:20260408T081631Z
UID:10011553-1778413500-1778416200@katholisch-hn.de
SUMMARY:Tauffeier St. Martinus
DESCRIPTION:
URL:https://katholisch-hn.de/veranstaltung/tauffeier-st-martinus/
LOCATION:St.-Martinus-Kirche\, Auf dem Bau\, 74081 Heilbronn-Sontheim
CATEGORIES:Gottesdienst - Wort Gottes Feier
END:VEVENT
BEGIN:VEVENT
DTSTART;TZID=Europe/Berlin:20260510T114500
DTEND;TZID=Europe/Berlin:20260510T124500
DTSTAMP:20260419T222426
CREATED:20260408T073938Z
LAST-MODIFIED:20260408T073938Z
UID:10011501-1778413500-1778417100@katholisch-hn.de
SUMMARY:Eucharistiefeier \nin ital. Sprache \nSt. Kilian
DESCRIPTION:
URL:https://katholisch-hn.de/veranstaltung/eucharistiefeier-in-ital-sprache-st-kilian-4/
LOCATION:Kirche St. Kilian\, Ludwigsburger Str. 68\, 74080 Heilbronn
CATEGORIES:Gottesdienst - Wort Gottes Feier
END:VEVENT
BEGIN:VEVENT
DTSTART;TZID=Europe/Berlin:20260510T130000
DTEND;TZID=Europe/Berlin:20260510T130000
DTSTAMP:20260419T222426
CREATED:20260408T074714Z
LAST-MODIFIED:20260408T074714Z
UID:10011520-1778418000-1778418000@katholisch-hn.de
SUMMARY:Erstkommunion der polnischen Gemeinde
DESCRIPTION:
URL:https://katholisch-hn.de/veranstaltung/erstkommunion-der-polnischen-gemeinde/
LOCATION:St. Michael\, Sudetenstr. 55\, 74078 Heilbronn
CATEGORIES:Gottesdienst - Wort Gottes Feier
END:VEVENT
BEGIN:VEVENT
DTSTART;TZID=Europe/Berlin:20260510T160000
DTEND;TZID=Europe/Berlin:20260510T170000
DTSTAMP:20260419T222426
CREATED:20260408T084531Z
LAST-MODIFIED:20260408T084531Z
UID:10011610-1778428800-1778432400@katholisch-hn.de
SUMMARY:Eucharistiefeier\nin spanischer Sprache Peter Paul
DESCRIPTION:
URL:https://katholisch-hn.de/veranstaltung/eucharistiefeierin-spanischer-sprache-peter-paul-6/
CATEGORIES:Gottesdienst - Wort Gottes Feier
END:VEVENT
BEGIN:VEVENT
DTSTART;TZID=Europe/Berlin:20260510T163000
DTEND;TZID=Europe/Berlin:20260510T173000
DTSTAMP:20260419T222426
CREATED:20260408T091024Z
LAST-MODIFIED:20260408T091024Z
UID:10011656-1778430600-1778434200@katholisch-hn.de
SUMMARY:Eucharistie in kroatischer Sprache
DESCRIPTION:
URL:https://katholisch-hn.de/veranstaltung/eucharistie-in-kroatischer-sprache-8/
LOCATION:St. Augustinus\, Goethestr. 75\, 74076 Heilbronn
CATEGORIES:Gottesdienst - Wort Gottes Feier
END:VEVENT
BEGIN:VEVENT
DTSTART;TZID=Europe/Berlin:20260510T180000
DTEND;TZID=Europe/Berlin:20260510T190000
DTSTAMP:20260419T222426
CREATED:20260408T073751Z
LAST-MODIFIED:20260408T073751Z
UID:10011479-1778436000-1778439600@katholisch-hn.de
SUMMARY:Maiandacht\nder Banater Schwaben\nHl. Kreuz
DESCRIPTION:
URL:https://katholisch-hn.de/veranstaltung/maiandachtder-banater-schwabenhl-kreuz/
LOCATION:Kirche Hl. Kreuz\, Eulenweg 50\, 74080 Heilbronn
CATEGORIES:Andacht - Vesper - Segensfeier
END:VEVENT
BEGIN:VEVENT
DTSTART;TZID=Europe/Berlin:20260510T180000
DTEND;TZID=Europe/Berlin:20260510T190000
DTSTAMP:20260419T222426
CREATED:20260408T073939Z
LAST-MODIFIED:20260408T073939Z
UID:10011502-1778436000-1778439600@katholisch-hn.de
SUMMARY:Feierliche Maiandacht\nSt. Kilian
DESCRIPTION:
URL:https://katholisch-hn.de/veranstaltung/feierliche-maiandachtst-kilian/
LOCATION:Kirche St. Kilian\, Ludwigsburger Str. 68\, 74080 Heilbronn
CATEGORIES:Andacht - Vesper - Segensfeier
END:VEVENT
BEGIN:VEVENT
DTSTART;TZID=Europe/Berlin:20260510T180000
DTEND;TZID=Europe/Berlin:20260510T190000
DTSTAMP:20260419T222426
CREATED:20260408T085137Z
LAST-MODIFIED:20260408T085137Z
UID:10011622-1778436000-1778439600@katholisch-hn.de
SUMMARY:Maiandacht in St. Alban
DESCRIPTION:Maiandacht mit der Flötengruppe
URL:https://katholisch-hn.de/veranstaltung/maiandacht-in-st-alban-2/
LOCATION:St. Alban\, Schlossstraße 38\, 74078 Heilbronn-Kirchhausen
CATEGORIES:Gottesdienst - Wort Gottes Feier
END:VEVENT
BEGIN:VEVENT
DTSTART;TZID=Europe/Berlin:20260510T190000
DTEND;TZID=Europe/Berlin:20260510T200000
DTSTAMP:20260419T222426
CREATED:20260408T084531Z
LAST-MODIFIED:20260408T084531Z
UID:10011611-1778439600-1778443200@katholisch-hn.de
SUMMARY:Eucharistiefeier Peter Paul
DESCRIPTION:
URL:https://katholisch-hn.de/veranstaltung/eucharistiefeier-peter-paul-30/
CATEGORIES:Gottesdienst - Wort Gottes Feier
END:VEVENT
BEGIN:VEVENT
DTSTART;TZID=Europe/Berlin:20261207T180000
DTEND;TZID=Europe/Berlin:20261207T180000
DTSTAMP:20260419T222426
CREATED:20251210T092915Z
LAST-MODIFIED:20251210T092915Z
UID:10010565-1796666400-1796666400@katholisch-hn.de
SUMMARY:Eucharistiefeier
DESCRIPTION:
URL:https://katholisch-hn.de/veranstaltung/eucharistiefeier-140/
LOCATION:St. Michael\, Sudetenstr. 55\, 74078 Heilbronn
CATEGORIES:Gottesdienst - Wort Gottes Feier
END:VEVENT
END:VCALENDAR