BEGIN:VCALENDAR
VERSION:2.0
PRODID:-//Katholische Kirche Heilbronn - ECPv6.15.11//NONSGML v1.0//EN
CALSCALE:GREGORIAN
METHOD:PUBLISH
X-WR-CALNAME:Katholische Kirche Heilbronn
X-ORIGINAL-URL:https://katholisch-hn.de
X-WR-CALDESC:Veranstaltungen für Katholische Kirche Heilbronn
REFRESH-INTERVAL;VALUE=DURATION:PT1H
X-Robots-Tag:noindex
X-PUBLISHED-TTL:PT1H
BEGIN:VTIMEZONE
TZID:Europe/Berlin
BEGIN:DAYLIGHT
TZOFFSETFROM:+0100
TZOFFSETTO:+0200
TZNAME:CEST
DTSTART:20250330T010000
END:DAYLIGHT
BEGIN:STANDARD
TZOFFSETFROM:+0200
TZOFFSETTO:+0100
TZNAME:CET
DTSTART:20251026T010000
END:STANDARD
BEGIN:DAYLIGHT
TZOFFSETFROM:+0100
TZOFFSETTO:+0200
TZNAME:CEST
DTSTART:20260329T010000
END:DAYLIGHT
BEGIN:STANDARD
TZOFFSETFROM:+0200
TZOFFSETTO:+0100
TZNAME:CET
DTSTART:20261025T010000
END:STANDARD
BEGIN:DAYLIGHT
TZOFFSETFROM:+0100
TZOFFSETTO:+0200
TZNAME:CEST
DTSTART:20270328T010000
END:DAYLIGHT
BEGIN:STANDARD
TZOFFSETFROM:+0200
TZOFFSETTO:+0100
TZNAME:CET
DTSTART:20271031T010000
END:STANDARD
END:VTIMEZONE
BEGIN:VEVENT
DTSTART;TZID=Europe/Berlin:20260504T121000
DTEND;TZID=Europe/Berlin:20260504T130000
DTSTAMP:20260419T160159
CREATED:20260408T084446Z
LAST-MODIFIED:20260408T084446Z
UID:10011596-1777896600-1777899600@katholisch-hn.de
SUMMARY:Eucharistiefeier Peter Paul
DESCRIPTION:
URL:https://katholisch-hn.de/veranstaltung/eucharistiefeier-peter-paul-25/
CATEGORIES:Gottesdienst - Wort Gottes Feier
END:VEVENT
BEGIN:VEVENT
DTSTART;TZID=Europe/Berlin:20260504T193000
DTEND;TZID=Europe/Berlin:20260504T210000
DTSTAMP:20260419T160159
CREATED:20260408T075522Z
LAST-MODIFIED:20260408T075522Z
UID:10011529-1777923000-1777928400@katholisch-hn.de
SUMMARY:Chorprobe
DESCRIPTION:Wer Freude am Singen hat\, ist in der Chorgemeinschaft herzlich willkommen. Gepflegt wird auch die Gemeinschaft bei geselligem Miteinander.
URL:https://katholisch-hn.de/veranstaltung/chorprobe-6/
LOCATION:St. Cornelius und Cyprian\, Weirachstr. 10\, 74078 Heilbronn
CATEGORIES:Musik
END:VEVENT
BEGIN:VEVENT
DTSTART;TZID=Europe/Berlin:20260505T083000
DTEND;TZID=Europe/Berlin:20260505T093000
DTSTAMP:20260419T160159
CREATED:20260408T090622Z
LAST-MODIFIED:20260408T090622Z
UID:10011646-1777969800-1777973400@katholisch-hn.de
SUMMARY:Eucharistie St. Augustinus
DESCRIPTION:
URL:https://katholisch-hn.de/veranstaltung/eucharistie-st-augustinus-34/
LOCATION:St. Augustinus\, Goethestr. 75\, 74076 Heilbronn
CATEGORIES:Gottesdienst - Wort Gottes Feier
END:VEVENT
BEGIN:VEVENT
DTSTART;TZID=Europe/Berlin:20260505T090000
DTEND;TZID=Europe/Berlin:20260505T100000
DTSTAMP:20260419T160159
CREATED:20260408T073750Z
LAST-MODIFIED:20260408T073750Z
UID:10011476-1777971600-1777975200@katholisch-hn.de
SUMMARY:Eucharistiefeier\nHl. Kreuz
DESCRIPTION:
URL:https://katholisch-hn.de/veranstaltung/eucharistiefeierhl-kreuz-7/
LOCATION:Kirche Hl. Kreuz\, Eulenweg 50\, 74080 Heilbronn
CATEGORIES:Gottesdienst - Wort Gottes Feier
END:VEVENT
BEGIN:VEVENT
DTSTART;TZID=Europe/Berlin:20260505T091500
DTEND;TZID=Europe/Berlin:20260505T094500
DTSTAMP:20260419T160159
CREATED:20260408T090622Z
LAST-MODIFIED:20260408T090622Z
UID:10011647-1777972500-1777974300@katholisch-hn.de
SUMMARY:Rosenkranz St. Augustinus
DESCRIPTION:
URL:https://katholisch-hn.de/veranstaltung/rosenkranz-st-augustinus-23/
LOCATION:St. Augustinus\, Goethestr. 75\, 74076 Heilbronn
CATEGORIES:Andacht - Vesper - Segensfeier
END:VEVENT
BEGIN:VEVENT
DTSTART;TZID=Europe/Berlin:20260505T170000
DTEND;TZID=Europe/Berlin:20260505T173000
DTSTAMP:20260419T160159
CREATED:20260408T084446Z
LAST-MODIFIED:20260408T084446Z
UID:10011597-1778000400-1778002200@katholisch-hn.de
SUMMARY:Rosenkranz Maria Immaculata
DESCRIPTION:
URL:https://katholisch-hn.de/veranstaltung/rosenkranz-maria-immaculata-11/
LOCATION:Maria Immaculata\, Moosbruggerstraße 6\, 74074 Heilbronn
CATEGORIES:Andacht - Vesper - Segensfeier
END:VEVENT
BEGIN:VEVENT
DTSTART;TZID=Europe/Berlin:20260505T183000
DTEND;TZID=Europe/Berlin:20260505T191500
DTSTAMP:20260419T160159
CREATED:20260408T081430Z
LAST-MODIFIED:20260408T081430Z
UID:10011547-1778005800-1778008500@katholisch-hn.de
SUMMARY:Marienmesse Heilig Geist
DESCRIPTION:
URL:https://katholisch-hn.de/veranstaltung/marienmesse-heilig-geist/
LOCATION:Heilig-Geist-Kirche\, Heilbronner Weg  17\, 74081 Heilbronn-Horkheim
CATEGORIES:Gottesdienst - Wort Gottes Feier
END:VEVENT
BEGIN:VEVENT
DTSTART;TZID=Europe/Berlin:20260506T083000
DTEND;TZID=Europe/Berlin:20260506T090000
DTSTAMP:20260419T160159
CREATED:20260408T073923Z
LAST-MODIFIED:20260408T073923Z
UID:10011495-1778056200-1778058000@katholisch-hn.de
SUMMARY:Rosenkranz\nSt. Kilian
DESCRIPTION:
URL:https://katholisch-hn.de/veranstaltung/rosenkranzst-kilian-5/
LOCATION:Kirche St. Kilian\, Ludwigsburger Str. 68\, 74080 Heilbronn
CATEGORIES:Andacht - Vesper - Segensfeier
END:VEVENT
BEGIN:VEVENT
DTSTART;TZID=Europe/Berlin:20260506T090000
DTEND;TZID=Europe/Berlin:20260506T100000
DTSTAMP:20260419T160159
CREATED:20260408T073923Z
LAST-MODIFIED:20260408T073923Z
UID:10011496-1778058000-1778061600@katholisch-hn.de
SUMMARY:Eucharistiefeier \nSt. Kilian
DESCRIPTION:
URL:https://katholisch-hn.de/veranstaltung/eucharistiefeier-st-kilian-7/
LOCATION:Kirche St. Kilian\, Ludwigsburger Str. 68\, 74080 Heilbronn
CATEGORIES:Gottesdienst - Wort Gottes Feier
END:VEVENT
BEGIN:VEVENT
DTSTART;TZID=Europe/Berlin:20260506T112000
DTEND;TZID=Europe/Berlin:20260506T115000
DTSTAMP:20260419T160159
CREATED:20260408T084447Z
LAST-MODIFIED:20260408T084447Z
UID:10011598-1778066400-1778068200@katholisch-hn.de
SUMMARY:Rosenkranz Peter Paul
DESCRIPTION:
URL:https://katholisch-hn.de/veranstaltung/rosenkranz-peter-paul-6/
CATEGORIES:Andacht - Vesper - Segensfeier
END:VEVENT
BEGIN:VEVENT
DTSTART;TZID=Europe/Berlin:20260506T113000
DTEND;TZID=Europe/Berlin:20260506T120000
DTSTAMP:20260419T160159
CREATED:20260408T084500Z
LAST-MODIFIED:20260408T084500Z
UID:10011599-1778067000-1778068800@katholisch-hn.de
SUMMARY:Beichtgelegenheit \nbei Pfarrer Rossnagel\nPeter Paul
DESCRIPTION:
URL:https://katholisch-hn.de/veranstaltung/beichtgelegenheit-bei-pfarrer-rossnagelpeter-paul-5/
CATEGORIES:Beichte
END:VEVENT
BEGIN:VEVENT
DTSTART;TZID=Europe/Berlin:20260506T121000
DTEND;TZID=Europe/Berlin:20260506T130000
DTSTAMP:20260419T160159
CREATED:20260408T084500Z
LAST-MODIFIED:20260408T084500Z
UID:10011600-1778069400-1778072400@katholisch-hn.de
SUMMARY:Eucharistiefeier Peter Paul
DESCRIPTION:
URL:https://katholisch-hn.de/veranstaltung/eucharistiefeier-peter-paul-26/
CATEGORIES:Gottesdienst - Wort Gottes Feier
END:VEVENT
BEGIN:VEVENT
DTSTART;TZID=Europe/Berlin:20260506T171500
DTEND;TZID=Europe/Berlin:20260506T171500
DTSTAMP:20260419T160159
CREATED:20260408T074713Z
LAST-MODIFIED:20260408T074713Z
UID:10011517-1778087700-1778087700@katholisch-hn.de
SUMMARY:Eucharistische Anbetung
DESCRIPTION:
URL:https://katholisch-hn.de/veranstaltung/eucharistische-anbetung/
LOCATION:St. Michael\, Sudetenstr. 55\, 74078 Heilbronn
CATEGORIES:Gottesdienst - Wort Gottes Feier
END:VEVENT
BEGIN:VEVENT
DTSTART;TZID=Europe/Berlin:20260506T180000
DTEND;TZID=Europe/Berlin:20260506T180000
DTSTAMP:20260419T160159
CREATED:20260408T074714Z
LAST-MODIFIED:20260408T074714Z
UID:10011518-1778090400-1778090400@katholisch-hn.de
SUMMARY:Eucharistiefeier
DESCRIPTION:
URL:https://katholisch-hn.de/veranstaltung/eucharistiefeier-14/
LOCATION:St. Michael\, Sudetenstr. 55\, 74078 Heilbronn
CATEGORIES:Gottesdienst - Wort Gottes Feier
END:VEVENT
BEGIN:VEVENT
DTSTART;TZID=Europe/Berlin:20260506T180000
DTEND;TZID=Europe/Berlin:20260506T183000
DTSTAMP:20260419T160159
CREATED:20260408T090622Z
LAST-MODIFIED:20260408T090622Z
UID:10011648-1778090400-1778092200@katholisch-hn.de
SUMMARY:Rosenkranz St. Augustinus
DESCRIPTION:
URL:https://katholisch-hn.de/veranstaltung/rosenkranz-st-augustinus-24/
LOCATION:St. Augustinus\, Goethestr. 75\, 74076 Heilbronn
CATEGORIES:Andacht - Vesper - Segensfeier
END:VEVENT
BEGIN:VEVENT
DTSTART;TZID=Europe/Berlin:20260506T183000
DTEND;TZID=Europe/Berlin:20260506T193000
DTSTAMP:20260419T160159
CREATED:20260408T090821Z
LAST-MODIFIED:20260408T090821Z
UID:10011649-1778092200-1778095800@katholisch-hn.de
SUMMARY:Eucharistie St. Augustinus
DESCRIPTION:
URL:https://katholisch-hn.de/veranstaltung/eucharistie-st-augustinus-35/
LOCATION:St. Augustinus\, Goethestr. 75\, 74076 Heilbronn
CATEGORIES:Gottesdienst - Wort Gottes Feier
END:VEVENT
BEGIN:VEVENT
DTSTART;TZID=Europe/Berlin:20260507T082500
DTEND;TZID=Europe/Berlin:20260507T090000
DTSTAMP:20260419T160159
CREATED:20260408T085121Z
LAST-MODIFIED:20260408T085121Z
UID:10011619-1778142300-1778144400@katholisch-hn.de
SUMMARY:Rosenkranzgebet in St. Alban
DESCRIPTION:Rosenkranzgebet
URL:https://katholisch-hn.de/veranstaltung/rosenkranzgebet-in-st-alban-3/
LOCATION:St. Alban\, Schlossstraße 38\, 74078 Heilbronn-Kirchhausen
CATEGORIES:Gottesdienst - Wort Gottes Feier
END:VEVENT
BEGIN:VEVENT
DTSTART;TZID=Europe/Berlin:20260507T090000
DTEND;TZID=Europe/Berlin:20260507T100000
DTSTAMP:20260419T160159
CREATED:20260408T073829Z
LAST-MODIFIED:20260408T073829Z
UID:10011485-1778144400-1778148000@katholisch-hn.de
SUMMARY:Eucharistiefeier\nSt. Johannes
DESCRIPTION:
URL:https://katholisch-hn.de/veranstaltung/eucharistiefeierst-johannes-3/
LOCATION:Kirche St. Johannes\, Leintalstraße 2\, 74078 Heilbronn
CATEGORIES:Gottesdienst - Wort Gottes Feier
END:VEVENT
BEGIN:VEVENT
DTSTART;TZID=Europe/Berlin:20260507T090000
DTEND;TZID=Europe/Berlin:20260507T100000
DTSTAMP:20260419T160159
CREATED:20260408T085122Z
LAST-MODIFIED:20260408T085122Z
UID:10011620-1778144400-1778148000@katholisch-hn.de
SUMMARY:Eucharistiefeier in St. Alban
DESCRIPTION:Eucharistiefeier
URL:https://katholisch-hn.de/veranstaltung/eucharistiefeier-in-st-alban-4/
LOCATION:St. Alban\, Schlossstraße 38\, 74078 Heilbronn-Kirchhausen
CATEGORIES:Gottesdienst - Wort Gottes Feier
END:VEVENT
BEGIN:VEVENT
DTSTART;TZID=Europe/Berlin:20260507T143000
DTEND;TZID=Europe/Berlin:20260507T160000
DTSTAMP:20260419T160159
CREATED:20260408T075536Z
LAST-MODIFIED:20260408T075536Z
UID:10011530-1778164200-1778169600@katholisch-hn.de
SUMMARY:Spielenachmittag für Erwachsene
DESCRIPTION:Die Karten liegen bereit. Haben Sie Lust auf Gesellschaftsspiele? Dann sind Sie im Gemeindehaus richtig.
URL:https://katholisch-hn.de/veranstaltung/spielenachmittag-fuer-erwachsene-2/
LOCATION:St. Cornelius und Cyprian\, Weirachstr. 10\, 74078 Heilbronn
CATEGORIES:Veranstaltungen
END:VEVENT
BEGIN:VEVENT
DTSTART;TZID=Europe/Berlin:20260507T151500
DTEND;TZID=Europe/Berlin:20260507T160000
DTSTAMP:20260419T160159
CREATED:20260408T081431Z
LAST-MODIFIED:20260408T081431Z
UID:10011548-1778166900-1778169600@katholisch-hn.de
SUMMARY:Eucharistiefeier ASB-Heim
DESCRIPTION:
URL:https://katholisch-hn.de/veranstaltung/eucharistiefeier-asb-heim-2/
LOCATION:ASB-Heim\, Bottwarbahnstraße\, 74081 Heilbronn-Sontheim
CATEGORIES:Gottesdienst - Wort Gottes Feier
END:VEVENT
BEGIN:VEVENT
DTSTART;TZID=Europe/Berlin:20260507T160000
DTEND;TZID=Europe/Berlin:20260507T170000
DTSTAMP:20260419T160159
CREATED:20260408T090823Z
LAST-MODIFIED:20260408T090823Z
UID:10011650-1778169600-1778173200@katholisch-hn.de
SUMMARY:Eucharistiefeier im Katharinenstift
DESCRIPTION:
URL:https://katholisch-hn.de/veranstaltung/eucharistiefeier-im-katharinenstift-2/
CATEGORIES:Gottesdienst - Wort Gottes Feier
END:VEVENT
BEGIN:VEVENT
DTSTART;TZID=Europe/Berlin:20260507T180000
DTEND;TZID=Europe/Berlin:20260507T183000
DTSTAMP:20260419T160159
CREATED:20260408T073924Z
LAST-MODIFIED:20260408T073924Z
UID:10011497-1778176800-1778178600@katholisch-hn.de
SUMMARY:Rosenkranz und Beichtgelegenheit \nin ital. Sprache\nSt. Kilian
DESCRIPTION:
URL:https://katholisch-hn.de/veranstaltung/rosenkranz-und-beichtgelegenheit-in-ital-sprachest-kilian/
LOCATION:Kirche St. Kilian\, Ludwigsburger Str. 68\, 74080 Heilbronn
CATEGORIES:Andacht - Vesper - Segensfeier
END:VEVENT
BEGIN:VEVENT
DTSTART;TZID=Europe/Berlin:20260507T180000
DTEND;TZID=Europe/Berlin:20260507T183000
DTSTAMP:20260419T160159
CREATED:20260408T084501Z
LAST-MODIFIED:20260408T084501Z
UID:10011601-1778176800-1778178600@katholisch-hn.de
SUMMARY:Rosenkranz Maria Immaculata
DESCRIPTION:
URL:https://katholisch-hn.de/veranstaltung/rosenkranz-maria-immaculata-12/
LOCATION:Maria Immaculata\, Moosbruggerstraße 6\, 74074 Heilbronn
CATEGORIES:Andacht - Vesper - Segensfeier
END:VEVENT
BEGIN:VEVENT
DTSTART;TZID=Europe/Berlin:20260507T183000
DTEND;TZID=Europe/Berlin:20260507T191500
DTSTAMP:20260419T160159
CREATED:20260408T081431Z
LAST-MODIFIED:20260408T081431Z
UID:10011549-1778178600-1778181300@katholisch-hn.de
SUMMARY:Eucharistiefeier Maximilian Kolbe
DESCRIPTION:
URL:https://katholisch-hn.de/veranstaltung/eucharistiefeier-maximilian-kolbe-6/
LOCATION:St.-Maximilian-Kolbe-Kirche\, Jörg-Ratgeb-Platz 25\, 74081 Heilbronn-Sontheim
CATEGORIES:Gottesdienst - Wort Gottes Feier
END:VEVENT
BEGIN:VEVENT
DTSTART;TZID=Europe/Berlin:20260507T183000
DTEND;TZID=Europe/Berlin:20260507T193000
DTSTAMP:20260419T160159
CREATED:20260408T073937Z
LAST-MODIFIED:20260408T073937Z
UID:10011498-1778178600-1778182200@katholisch-hn.de
SUMMARY:Eucharistiefeier \nin ital. Sprache \nSt. Kilian
DESCRIPTION:
URL:https://katholisch-hn.de/veranstaltung/eucharistiefeier-in-ital-sprache-st-kilian-3/
LOCATION:Kirche St. Kilian\, Ludwigsburger Str. 68\, 74080 Heilbronn
CATEGORIES:Gottesdienst - Wort Gottes Feier
END:VEVENT
BEGIN:VEVENT
DTSTART;TZID=Europe/Berlin:20260507T183000
DTEND;TZID=Europe/Berlin:20260507T193000
DTSTAMP:20260419T160159
CREATED:20260408T084501Z
LAST-MODIFIED:20260408T084501Z
UID:10011602-1778178600-1778182200@katholisch-hn.de
SUMMARY:Eucharistiefeier Maria Immaculata
DESCRIPTION:
URL:https://katholisch-hn.de/veranstaltung/eucharistiefeier-maria-immaculata-8/
LOCATION:Maria Immaculata\, Moosbruggerstraße 6\, 74074 Heilbronn
CATEGORIES:Gottesdienst - Wort Gottes Feier
END:VEVENT
BEGIN:VEVENT
DTSTART;TZID=Europe/Berlin:20260508T160000
DTEND;TZID=Europe/Berlin:20260508T170000
DTSTAMP:20260419T160159
CREATED:20260408T074009Z
LAST-MODIFIED:20260408T074009Z
UID:10011505-1778256000-1778259600@katholisch-hn.de
SUMMARY:Eucharistiefeier \nim Karl-Wagner-Stift\nNordheim
DESCRIPTION:
URL:https://katholisch-hn.de/veranstaltung/eucharistiefeier-im-karl-wagner-stiftnordheim/
CATEGORIES:Gottesdienst - Wort Gottes Feier
END:VEVENT
BEGIN:VEVENT
DTSTART;TZID=Europe/Berlin:20260508T174500
DTEND;TZID=Europe/Berlin:20260508T183000
DTSTAMP:20260419T160159
CREATED:20260408T084501Z
LAST-MODIFIED:20260408T084501Z
UID:10011603-1778262300-1778265000@katholisch-hn.de
SUMMARY:Beichtgelegenheit \nbei Pfarrer Rossnagel\nPeter Paul
DESCRIPTION:
URL:https://katholisch-hn.de/veranstaltung/beichtgelegenheit-bei-pfarrer-rossnagelpeter-paul-6/
CATEGORIES:Beichte
END:VEVENT
BEGIN:VEVENT
DTSTART;TZID=Europe/Berlin:20260508T183000
DTEND;TZID=Europe/Berlin:20260508T191500
DTSTAMP:20260419T160159
CREATED:20260408T084514Z
LAST-MODIFIED:20260408T084514Z
UID:10011604-1778265000-1778267700@katholisch-hn.de
SUMMARY:Eucharistiefeier Peter Paul
DESCRIPTION:
URL:https://katholisch-hn.de/veranstaltung/eucharistiefeier-peter-paul-27/
CATEGORIES:Gottesdienst - Wort Gottes Feier
END:VEVENT
END:VCALENDAR