BEGIN:VCALENDAR
VERSION:2.0
PRODID:-//Katholische Kirche Heilbronn - ECPv6.15.11//NONSGML v1.0//EN
CALSCALE:GREGORIAN
METHOD:PUBLISH
X-WR-CALNAME:Katholische Kirche Heilbronn
X-ORIGINAL-URL:https://katholisch-hn.de
X-WR-CALDESC:Veranstaltungen für Katholische Kirche Heilbronn
REFRESH-INTERVAL;VALUE=DURATION:PT1H
X-Robots-Tag:noindex
X-PUBLISHED-TTL:PT1H
BEGIN:VTIMEZONE
TZID:Europe/Berlin
BEGIN:DAYLIGHT
TZOFFSETFROM:+0100
TZOFFSETTO:+0200
TZNAME:CEST
DTSTART:20250330T010000
END:DAYLIGHT
BEGIN:STANDARD
TZOFFSETFROM:+0200
TZOFFSETTO:+0100
TZNAME:CET
DTSTART:20251026T010000
END:STANDARD
BEGIN:DAYLIGHT
TZOFFSETFROM:+0100
TZOFFSETTO:+0200
TZNAME:CEST
DTSTART:20260329T010000
END:DAYLIGHT
BEGIN:STANDARD
TZOFFSETFROM:+0200
TZOFFSETTO:+0100
TZNAME:CET
DTSTART:20261025T010000
END:STANDARD
BEGIN:DAYLIGHT
TZOFFSETFROM:+0100
TZOFFSETTO:+0200
TZNAME:CEST
DTSTART:20270328T010000
END:DAYLIGHT
BEGIN:STANDARD
TZOFFSETFROM:+0200
TZOFFSETTO:+0100
TZNAME:CET
DTSTART:20271031T010000
END:STANDARD
END:VTIMEZONE
BEGIN:VEVENT
DTSTART;TZID=Europe/Berlin:20260422T083000
DTEND;TZID=Europe/Berlin:20260422T090000
DTSTAMP:20260422T124032
CREATED:20260408T073831Z
LAST-MODIFIED:20260408T073831Z
UID:10011487-1776846600-1776848400@katholisch-hn.de
SUMMARY:Rosenkranz\nSt. Kilian
DESCRIPTION:
URL:https://katholisch-hn.de/veranstaltung/rosenkranzst-kilian-3/
LOCATION:Kirche St. Kilian\, Ludwigsburger Str. 68\, 74080 Heilbronn
CATEGORIES:Andacht - Vesper - Segensfeier
END:VEVENT
BEGIN:VEVENT
DTSTART;TZID=Europe/Berlin:20260422T090000
DTEND;TZID=Europe/Berlin:20260422T100000
DTSTAMP:20260422T124032
CREATED:20260408T073907Z
LAST-MODIFIED:20260408T073907Z
UID:10011488-1776848400-1776852000@katholisch-hn.de
SUMMARY:Eucharistiefeier \nSt. Kilian
DESCRIPTION:
URL:https://katholisch-hn.de/veranstaltung/eucharistiefeier-st-kilian-4/
LOCATION:Kirche St. Kilian\, Ludwigsburger Str. 68\, 74080 Heilbronn
CATEGORIES:Gottesdienst - Wort Gottes Feier
END:VEVENT
BEGIN:VEVENT
DTSTART;TZID=Europe/Berlin:20260422T100000
DTEND;TZID=Europe/Berlin:20260422T104500
DTSTAMP:20260422T124032
CREATED:20260408T081336Z
LAST-MODIFIED:20260408T081336Z
UID:10011535-1776852000-1776854700@katholisch-hn.de
SUMMARY:Eucharistiefeier Haus am Staufenberg
DESCRIPTION:
URL:https://katholisch-hn.de/veranstaltung/eucharistiefeier-haus-am-staufenberg-2/
LOCATION:Haus am Staufenberg\, Max-von-Laue-Straße 50\, 74081 Heilbronn-Sontheim
CATEGORIES:Gottesdienst - Wort Gottes Feier
END:VEVENT
BEGIN:VEVENT
DTSTART;TZID=Europe/Berlin:20260422T112000
DTEND;TZID=Europe/Berlin:20260422T115000
DTSTAMP:20260422T124032
CREATED:20260408T083721Z
LAST-MODIFIED:20260408T083721Z
UID:10011564-1776856800-1776858600@katholisch-hn.de
SUMMARY:Rosenkranz Peter Paul
DESCRIPTION:
URL:https://katholisch-hn.de/veranstaltung/rosenkranz-peter-paul-3/
CATEGORIES:Andacht - Vesper - Segensfeier
END:VEVENT
BEGIN:VEVENT
DTSTART;TZID=Europe/Berlin:20260422T113000
DTEND;TZID=Europe/Berlin:20260422T120000
DTSTAMP:20260422T124032
CREATED:20260408T083722Z
LAST-MODIFIED:20260408T083722Z
UID:10011565-1776857400-1776859200@katholisch-hn.de
SUMMARY:Beichtgelegenheit \nbei Pfarrer Rossnagel\nPeter Paul
DESCRIPTION:
URL:https://katholisch-hn.de/veranstaltung/beichtgelegenheit-bei-pfarrer-rossnagelpeter-paul/
CATEGORIES:Beichte
END:VEVENT
BEGIN:VEVENT
DTSTART;TZID=Europe/Berlin:20260422T121000
DTEND;TZID=Europe/Berlin:20260422T130000
DTSTAMP:20260422T124032
CREATED:20260408T083722Z
LAST-MODIFIED:20260408T083722Z
UID:10011566-1776859800-1776862800@katholisch-hn.de
SUMMARY:Eucharistiefeier Peter Paul
DESCRIPTION:
URL:https://katholisch-hn.de/veranstaltung/eucharistiefeier-peter-paul-14/
CATEGORIES:Gottesdienst - Wort Gottes Feier
END:VEVENT
BEGIN:VEVENT
DTSTART;TZID=Europe/Berlin:20260422T173000
DTEND;TZID=Europe/Berlin:20260422T173000
DTSTAMP:20260422T124032
CREATED:20260408T074652Z
LAST-MODIFIED:20260408T074652Z
UID:10011509-1776879000-1776879000@katholisch-hn.de
SUMMARY:Rosenkranz
DESCRIPTION:
URL:https://katholisch-hn.de/veranstaltung/rosenkranz-4/
LOCATION:St. Michael\, Sudetenstr. 55\, 74078 Heilbronn
CATEGORIES:Gottesdienst - Wort Gottes Feier
END:VEVENT
BEGIN:VEVENT
DTSTART;TZID=Europe/Berlin:20260422T180000
DTEND;TZID=Europe/Berlin:20260422T180000
DTSTAMP:20260422T124032
CREATED:20260408T074653Z
LAST-MODIFIED:20260408T074653Z
UID:10011510-1776880800-1776880800@katholisch-hn.de
SUMMARY:Eucharistiefeier
DESCRIPTION:
URL:https://katholisch-hn.de/veranstaltung/eucharistiefeier-10/
LOCATION:St. Michael\, Sudetenstr. 55\, 74078 Heilbronn
CATEGORIES:Gottesdienst - Wort Gottes Feier
END:VEVENT
BEGIN:VEVENT
DTSTART;TZID=Europe/Berlin:20260422T180000
DTEND;TZID=Europe/Berlin:20260422T183000
DTSTAMP:20260422T124032
CREATED:20260408T090129Z
LAST-MODIFIED:20260408T090129Z
UID:10011625-1776880800-1776882600@katholisch-hn.de
SUMMARY:Rosenkranz St. Augustinus
DESCRIPTION:
URL:https://katholisch-hn.de/veranstaltung/rosenkranz-st-augustinus-20/
LOCATION:St. Augustinus\, Goethestr. 75\, 74076 Heilbronn
CATEGORIES:Andacht - Vesper - Segensfeier
END:VEVENT
BEGIN:VEVENT
DTSTART;TZID=Europe/Berlin:20260422T183000
DTEND;TZID=Europe/Berlin:20260422T193000
DTSTAMP:20260422T124032
CREATED:20260408T090130Z
LAST-MODIFIED:20260408T090130Z
UID:10011626-1776882600-1776886200@katholisch-hn.de
SUMMARY:Eucharistie St. Augustinus
DESCRIPTION:
URL:https://katholisch-hn.de/veranstaltung/eucharistie-st-augustinus-29/
LOCATION:St. Augustinus\, Goethestr. 75\, 74076 Heilbronn
CATEGORIES:Gottesdienst - Wort Gottes Feier
END:VEVENT
END:VCALENDAR